BEGIN:VCALENDAR
VERSION:2.0
PRODID:-//ARTEK: The Art of the Early Keyboard - ECPv5.1.6//NONSGML v1.0//EN
CALSCALE:GREGORIAN
METHOD:PUBLISH
X-WR-CALNAME:ARTEK: The Art of the Early Keyboard
X-ORIGINAL-URL:https://artekearlymusic.org
X-WR-CALDESC:Events for ARTEK: The Art of the Early Keyboard
BEGIN:VTIMEZONE
TZID:America/New_York
BEGIN:DAYLIGHT
TZOFFSETFROM:-0500
TZOFFSETTO:-0400
TZNAME:EDT
DTSTART:20230312T070000
END:DAYLIGHT
BEGIN:STANDARD
TZOFFSETFROM:-0400
TZOFFSETTO:-0500
TZNAME:EST
DTSTART:20231105T060000
END:STANDARD
END:VTIMEZONE
BEGIN:VEVENT
DTSTART;TZID=America/New_York:20230602T193000
DTEND;TZID=America/New_York:20230602T203000
DTSTAMP:20260421T041257
CREATED:20230510T033959Z
LAST-MODIFIED:20230513T191017Z
UID:1557-1685734200-1685737800@artekearlymusic.org
SUMMARY:Madrigal Madness
DESCRIPTION:ARTEK’s singers\, joined by Madrigal Madness Fellows & Alumni\, present a program of Italian early baroque madrigals composed by Giovanni Gabrieli\, along with some special selections of instrumental music. A free event\, taking place in the Arthur Avenue/Little Italy neighborhood of the Bronx\, near the Bronx Zoo. Make a day of it and sample some of the best restaurants & food shopping the Bronx has to offer\, or visit the brand new Budgie Landing bird exhibit at the Bronx Zoo.
URL:https://artekearlymusic.org/concerts/2022-2023/madrigal-madness-2/
LOCATION:Our Lady of Mount Carmel Church\, 627 E 187th St\, Bronx\, NY\, 10458
CATEGORIES:2022-2023
ATTACH;FMTTYPE=image/jpeg:https://artekearlymusic.org/artek_2/wp-content/uploads/2023/05/square-madrigal-madness.jpg
END:VEVENT
END:VCALENDAR